BEGIN:VCALENDAR
VERSION:2.0
PRODID:-//Springfield Station Homeowners&#039; Association - ECPv6.8.0//NONSGML v1.0//EN
CALSCALE:GREGORIAN
METHOD:PUBLISH
X-ORIGINAL-URL:https://springfieldstationhoa.org
X-WR-CALDESC:Events for Springfield Station Homeowners&#039; Association
REFRESH-INTERVAL;VALUE=DURATION:PT1H
X-Robots-Tag:noindex
X-PUBLISHED-TTL:PT1H
BEGIN:VTIMEZONE
TZID:UTC
BEGIN:STANDARD
TZOFFSETFROM:+0000
TZOFFSETTO:+0000
TZNAME:UTC
DTSTART:20260101T000000
END:STANDARD
END:VTIMEZONE
BEGIN:VEVENT
DTSTART;TZID=UTC:20260919T100000
DTEND;TZID=UTC:20260919T120000
DTSTAMP:20260425T034002
CREATED:20230116T110041Z
LAST-MODIFIED:20260226T032421Z
UID:1027-1789812000-1789819200@springfieldstationhoa.org
SUMMARY:Annual General Membership Meeting
DESCRIPTION:Springfield Station Homeowners’ Association Annual General Membership Meeting.  Agenda to be posted closer to the event. Open to all homeowner’s.  Meeting is scheduled for two hours to allow for Q&A.  The planned agenda is usually one hour. \nRain date is September 26th
URL:https://springfieldstationhoa.org/event/annual-general-membership-meeting-tbc/
LOCATION:Sports Courts
CATEGORIES:2026,General Membership
END:VEVENT
BEGIN:VEVENT
DTSTART;TZID=UTC:20260926T100000
DTEND;TZID=UTC:20260926T120000
DTSTAMP:20260425T034002
CREATED:20240818T220821Z
LAST-MODIFIED:20260226T032325Z
UID:3309-1790416800-1790424000@springfieldstationhoa.org
SUMMARY:Annual General Membership Meeting (Rain Date)
DESCRIPTION:ONLY IF IT RAINS SEPT 19th \nSpringfield Station Homeowners’ Association Annual General Membership Meeting is Saturday\, September 20th at 10:00am at the Sports Court.  The rain date for the event is Saturday\, September 19th. \nAgenda to be posted closer to the event. Open to all homeowner’s.  Meeting is scheduled for two hours to allow for Q&A.  The planned agenda is usually one hour.
URL:https://springfieldstationhoa.org/event/annual-general-membership-meeting-rain-date/
LOCATION:Sports Courts
CATEGORIES:2026,General Membership
END:VEVENT
END:VCALENDAR